BEGIN:VCALENDAR
PRODID:-//AT Content Types//AT Event//EN
VERSION:1.0
BEGIN:VEVENT
DTSTART:20251007T183000Z
DTEND:20251007T183000Z
DCREATED:20251002T131652Z
UID:ATEvent-d387fb0f80b346a5aa93bf86f830963a
SEQUENCE:0
LAST-MODIFIED:20251002T140422Z
SUMMARY:Le Messie de Haendel
DESCRIPTION:Un concert exceptionnel.
LOCATION:Église Saint Pierre à Plaisir
PRIORITY:3
TRANSP:0
END:VEVENT
END:VCALENDAR
