BEGIN:VCALENDAR
PRODID:-//AT Content Types//AT Event//EN
VERSION:2.0
METHOD:PUBLISH
BEGIN:VEVENT
DTSTAMP:20260420T091105Z
CREATED:20220527T094016Z
UID:ATEvent-4691be807e09424e9794a7d09e53f14f
LAST-MODIFIED:20220527T094039Z
SUMMARY:Messe du  premier samedi du mois
DTSTART:20220604T063000Z
DTEND:20220604T063000Z
LOCATION:Église Saint Pierre - Place Saint Pierre - 78370 PLAISIR
CLASS:PUBLIC
END:VEVENT
END:VCALENDAR
