BEGIN:VCALENDAR
PRODID:-//AT Content Types//AT Event//EN
VERSION:1.0
BEGIN:VEVENT
DTSTART:20260424T220000Z
DTEND:20260429T220000Z
DCREATED:20260109T100524Z
UID:ATEvent-46e6c15b78744c17a231e454ca2d7680
SEQUENCE:0
LAST-MODIFIED:20260316T111922Z
SUMMARY:Lourdes 2026
DESCRIPTION:Pèlerinage diocésain.
PRIORITY:3
TRANSP:0
END:VEVENT
END:VCALENDAR
