BEGIN:VCALENDAR
PRODID:-//AT Content Types//AT Event//EN
VERSION:1.0
BEGIN:VEVENT
DTSTART:20210411T130000Z
DTEND:20210411T130000Z
DCREATED:20210326T145014Z
UID:ATEvent-a1eaf5840b8748f9a127917a409c70c6
SEQUENCE:0
LAST-MODIFIED:20210411T153852Z
SUMMARY:Installation de Mgr Luc Crepy (retransmission en direct à 15h)
DESCRIPTION:Messe d’installation sur invitation mais retransmise en 
 direct.
LOCATION:Cathédrale de Versailles
PRIORITY:3
TRANSP:0
END:VEVENT
END:VCALENDAR
