BEGIN:VCALENDAR
PRODID:-//AT Content Types//AT Event//EN
VERSION:1.0
BEGIN:VEVENT
DTSTART:20210901T160000Z
DTEND:20210901T173000Z
DCREATED:20210827T125130Z
UID:ATEvent-6bb093c263044949906504720c5ee978
SEQUENCE:0
LAST-MODIFIED:20210827T125301Z
SUMMARY:Exposition du Saint Sacrement
DESCRIPTION:Reprise le mercredi 1er septembre 2021. Attention ATTENTIO
 N : pas d’exposition du Saint Sacrement le Mercredi 8 septembre.
LOCATION:Église Saint Pierre - Place Saint Pierre - 78370 PLAISIR
PRIORITY:3
TRANSP:0
END:VEVENT
END:VCALENDAR
