BEGIN:VCALENDAR
PRODID:-//AT Content Types//AT Event//EN
VERSION:1.0
BEGIN:VEVENT
DTSTART:20210410T070000Z
DTEND:20210410T070000Z
DCREATED:20210402T083509Z
UID:ATEvent-d0ce1279858b4854b65512542350ce98
SEQUENCE:0
LAST-MODIFIED:20210402T085319Z
SUMMARY:Chapelet
LOCATION:Église Saint Pierre - Place Saint Pierre - 78370 PLAISIR
PRIORITY:3
TRANSP:0
END:VEVENT
END:VCALENDAR
