BEGIN:VCALENDAR
PRODID:-//AT Content Types//AT Event//EN
VERSION:2.0
METHOD:PUBLISH
BEGIN:VEVENT
DTSTAMP:20260421T084026Z
CREATED:20220108T015426Z
UID:ATEvent-b494e43b35bd4ea189a93391df6c11c8
LAST-MODIFIED:20220111T124749Z
SUMMARY:2ème réunion synodale sur la synodalité
DTSTART:20220123T150000Z
DTEND:20220123T170000Z
DESCRIPTION:Le pape nous appelle à marcher ensemble en Eglise
LOCATION:Eglise St Pierre de Plaisir
CLASS:PUBLIC
END:VEVENT
END:VCALENDAR
